BEGIN:VCALENDAR
VERSION:2.0
PRODID:-//INSPIRATA - ECPv6.15.17//NONSGML v1.0//EN
CALSCALE:GREGORIAN
METHOD:PUBLISH
X-WR-CALNAME:INSPIRATA
X-ORIGINAL-URL:https://www.inspirata.de
X-WR-CALDESC:Veranstaltungen für INSPIRATA
REFRESH-INTERVAL;VALUE=DURATION:PT1H
X-Robots-Tag:noindex
X-PUBLISHED-TTL:PT1H
BEGIN:VTIMEZONE
TZID:Europe/Berlin
BEGIN:DAYLIGHT
TZOFFSETFROM:+0100
TZOFFSETTO:+0200
TZNAME:CEST
DTSTART:20230326T010000
END:DAYLIGHT
BEGIN:STANDARD
TZOFFSETFROM:+0200
TZOFFSETTO:+0100
TZNAME:CET
DTSTART:20231029T010000
END:STANDARD
BEGIN:DAYLIGHT
TZOFFSETFROM:+0100
TZOFFSETTO:+0200
TZNAME:CEST
DTSTART:20240331T010000
END:DAYLIGHT
BEGIN:STANDARD
TZOFFSETFROM:+0200
TZOFFSETTO:+0100
TZNAME:CET
DTSTART:20241027T010000
END:STANDARD
BEGIN:DAYLIGHT
TZOFFSETFROM:+0100
TZOFFSETTO:+0200
TZNAME:CEST
DTSTART:20250330T010000
END:DAYLIGHT
BEGIN:STANDARD
TZOFFSETFROM:+0200
TZOFFSETTO:+0100
TZNAME:CET
DTSTART:20251026T010000
END:STANDARD
END:VTIMEZONE
BEGIN:VEVENT
DTSTART;TZID=Europe/Berlin:20240715T130000
DTEND;TZID=Europe/Berlin:20240719T163000
DTSTAMP:20260422T141142
CREATED:20240625T093258Z
LAST-MODIFIED:20240625T093258Z
UID:6485-1721048400-1721406600@www.inspirata.de
SUMMARY:Sommerferienkurs - Spielend Python programmieren
DESCRIPTION:Hast du Lust\, eine neue Programmiersprache zu lernen? \nWas erwartet dich? \nIn diesem Kurs tauchst du spielerisch in die Welt der Programmierung mit Python ein. Schritt für Schritt entwickelst du verschiedene kleine Spiele-Klassiker\, die du vielleicht schon kennst und liebst. Dabei lernst du die Grundlagen von Python und wie du deine eigenen Programme schreiben kannst. \nKursinhalte: \n\nEinführung in Python\nSpiele programmieren: Vom ersten einfachen Spiel bis zu kleinen Spiele-Klassikern – du wirst sehen\, wie schnell du Fortschritte machst.\nKreatives Denken: Lerne\, wie du eigene Ideen umsetzt und deine Spiele nach deinen Vorstellungen gestaltest.\nProblemlösung: Entwickle deine Fähigkeiten im logischen Denken und finde kreative Lösungen für Programmieraufgaben.\n\nUnser Kurs richtet sich an alle\, die neugierig auf Programmierung sind – egal ob du ein kompletter Neuling bist oder schon erste Erfahrungen gesammelt hast. Besonders geeignet ist der Kurs für Kinder und Jugendliche\, die spielerisch lernen möchten. \nMelde dich jetzt an und entdecke\, wie viel Spaß Programmieren machen kann! Werde zum Python-Experten\, während du spielend lernst und deine eigenen Spiele erstellst. \nDer Kurs findet täglich vom 15.07.2024 – 19.07.2024\, von 13 Uhr bis 16.30 Uhr statt. \nWir freuen uns auf deine Anmeldung!
URL:https://www.inspirata.de/veranstaltung/sommerferienkurs-spielend-python-programmieren/
LOCATION:INSPIRATA e.V.\, Deutscher Platz 4 / Aufgang G\, Leipzig\, 04103\, Deutschland
CATEGORIES:Familie,MINT,Workshop
ATTACH;FMTTYPE=image/jpeg:https://www.inspirata.de/wp-content/uploads/2024/06/Sommerferien_Web_Python.jpg
ORGANIZER;CN="Marie Herrmann / Jenny":MAILTO:mint_aktiv@inspirata.de
END:VEVENT
END:VCALENDAR